BEGIN:VCALENDAR
VERSION:2.0
PRODID:-//FC Gatineau - ECPv6.0.3.1//NONSGML v1.0//EN
CALSCALE:GREGORIAN
METHOD:PUBLISH
X-ORIGINAL-URL:https://www.fcgatineau.ca
X-WR-CALDESC:Events for FC Gatineau
REFRESH-INTERVAL;VALUE=DURATION:PT1H
X-Robots-Tag:noindex
X-PUBLISHED-TTL:PT1H
BEGIN:VTIMEZONE
TZID:America/Toronto
BEGIN:DAYLIGHT
TZOFFSETFROM:-0500
TZOFFSETTO:-0400
TZNAME:EDT
DTSTART:20190310T070000
END:DAYLIGHT
BEGIN:STANDARD
TZOFFSETFROM:-0400
TZOFFSETTO:-0500
TZNAME:EST
DTSTART:20191103T060000
END:STANDARD
END:VTIMEZONE
BEGIN:VEVENT
DTSTART;TZID=America/Toronto:20190209T163000
DTEND;TZID=America/Toronto:20190210T110000
DTSTAMP:20260419T103903
CREATED:20170207T000641Z
LAST-MODIFIED:20190105T025154Z
UID:10000062-1549729800-1549796400@www.fcgatineau.ca
SUMMARY:Évaluations AA/AAA (U-15FAA\, U-16FAA\, U-15MAAA\, U-13MAA et U-19FAAA)
DESCRIPTION:  \n\n\n\n\nSamedi 9 février\n \n \n16h30-18h15 : U15FAA et U16FAA\n 18h15-20h: U15MAAA\n \nDimanche 10 février\n \n8h00-9h30 : U13MAA\n9h30-11h : U19FAAA\n  \nToutes les évaluations ont lieu à Branchaud-Brière\, 499 boulevard Labrosse\, secteur Gatineau \n\n 
URL:https://www.fcgatineau.ca/event/evaluations-aaaaa-semaine-du-06-au-12-fevrier/
LOCATION:Complexe Sportif Branchaud-Briere\, 499 boulevard Labrosse\, Gatineau\, Quebec\, J8P 4R1\, Canada
CATEGORIES:Évaluations
GEO:45.4972462;-75.6444954
X-APPLE-STRUCTURED-LOCATION;VALUE=URI;X-ADDRESS=Complexe Sportif Branchaud-Briere 499 boulevard Labrosse Gatineau Quebec J8P 4R1 Canada;X-APPLE-RADIUS=500;X-TITLE=499 boulevard Labrosse:geo:-75.6444954,45.4972462
END:VEVENT
END:VCALENDAR