BEGIN:VCALENDAR
VERSION:2.0
PRODID:-//FC Gatineau - ECPv6.0.3.1//NONSGML v1.0//EN
CALSCALE:GREGORIAN
METHOD:PUBLISH
X-WR-CALNAME:FC Gatineau
X-ORIGINAL-URL:https://www.fcgatineau.ca
X-WR-CALDESC:Events for FC Gatineau
REFRESH-INTERVAL;VALUE=DURATION:PT1H
X-Robots-Tag:noindex
X-PUBLISHED-TTL:PT1H
BEGIN:VTIMEZONE
TZID:America/Toronto
BEGIN:DAYLIGHT
TZOFFSETFROM:-0500
TZOFFSETTO:-0400
TZNAME:EDT
DTSTART:20180311T070000
END:DAYLIGHT
BEGIN:STANDARD
TZOFFSETFROM:-0400
TZOFFSETTO:-0500
TZNAME:EST
DTSTART:20181104T060000
END:STANDARD
BEGIN:DAYLIGHT
TZOFFSETFROM:-0500
TZOFFSETTO:-0400
TZNAME:EDT
DTSTART:20190310T070000
END:DAYLIGHT
BEGIN:STANDARD
TZOFFSETFROM:-0400
TZOFFSETTO:-0500
TZNAME:EST
DTSTART:20191103T060000
END:STANDARD
END:VTIMEZONE
BEGIN:VEVENT
DTSTART;TZID=America/Toronto:20190216T180000
DTEND;TZID=America/Toronto:20190216T200000
DTSTAMP:20260419T181121
CREATED:20190205T233745Z
LAST-MODIFIED:20190205T233745Z
UID:10000018-1550340000-1550347200@www.fcgatineau.ca
SUMMARY:Évaluations SFAA
DESCRIPTION:Évaluations à Branchaud-Brière pour l’équipe SFAA 2019.\n \n\n\nsamedi 02 février 18h30-20h\n\n\nsamedi 16 février 18h15-20h\n\n\ndimanche 03 mars 9h30-11h\n\n\nCette année\, aucune inscription ne sera prise sur place et seules les joueuses inscrites entreront sur le terrain.\n \nVous devez donc passer au bureau pour remplir les formulaires et effectuer le paiement.\n \nNotre inscription dans la ligue OCSL à Ottawa a été confirmé. Reste à connaître la division.
URL:https://www.fcgatineau.ca/event/evaluations-sfaa/
LOCATION:Complexe Sportif Branchaud-Briere\, 499 boulevard Labrosse\, Gatineau\, Quebec\, J8P 4R1\, Canada
CATEGORIES:Évaluations
GEO:45.4972462;-75.6444954
X-APPLE-STRUCTURED-LOCATION;VALUE=URI;X-ADDRESS=Complexe Sportif Branchaud-Briere 499 boulevard Labrosse Gatineau Quebec J8P 4R1 Canada;X-APPLE-RADIUS=500;X-TITLE=499 boulevard Labrosse:geo:-75.6444954,45.4972462
END:VEVENT
BEGIN:VEVENT
DTSTART;TZID=America/Toronto:20190216T163000
DTEND;TZID=America/Toronto:20190217T110000
DTSTAMP:20260419T181121
CREATED:20170213T141348Z
LAST-MODIFIED:20190105T030322Z
UID:10000048-1550334600-1550401200@www.fcgatineau.ca
SUMMARY:Évaluations AA/AAA (U-17MAA\, U-13MAA\, U-19FAAA\, U-15FAA et U-16FAA)
DESCRIPTION:Samedi 16/02\n 16h30-18h15 : U17MAA\n 18h15-20h : U13MAA \nDimanche 17/02\n 8h00-9h30 : U19FAAA\n 9h30-11h : U15FAA/U16FAA \nau complexe Branchaud-Brière
URL:https://www.fcgatineau.ca/event/evaluations-aaaaa-semaine-du-13-au-19-fevrier/
LOCATION:Complexe Sportif Branchaud-Briere\, 499 boulevard Labrosse\, Gatineau\, Quebec\, J8P 4R1\, Canada
CATEGORIES:Évaluations
GEO:45.4972462;-75.6444954
X-APPLE-STRUCTURED-LOCATION;VALUE=URI;X-ADDRESS=Complexe Sportif Branchaud-Briere 499 boulevard Labrosse Gatineau Quebec J8P 4R1 Canada;X-APPLE-RADIUS=500;X-TITLE=499 boulevard Labrosse:geo:-75.6444954,45.4972462
END:VEVENT
BEGIN:VEVENT
DTSTART;TZID=America/Toronto:20190214T173000
DTEND;TZID=America/Toronto:20190214T190000
DTSTAMP:20260419T181121
CREATED:20190105T025718Z
LAST-MODIFIED:20190105T030429Z
UID:10000015-1550165400-1550170800@www.fcgatineau.ca
SUMMARY:Évaluations AA/AAA (U-14MAA)
DESCRIPTION:Jeudi 14/02\n17h30-19h : U14MAA\,\n \nAu complexe sportif\,  branchaud-Brière
URL:https://www.fcgatineau.ca/event/evaluations-aaaaa-4/
LOCATION:Complexe Sportif Branchaud-Briere\, 499 boulevard Labrosse\, Gatineau\, Quebec\, J8P 4R1\, Canada
CATEGORIES:Évaluations
GEO:45.4972462;-75.6444954
X-APPLE-STRUCTURED-LOCATION;VALUE=URI;X-ADDRESS=Complexe Sportif Branchaud-Briere 499 boulevard Labrosse Gatineau Quebec J8P 4R1 Canada;X-APPLE-RADIUS=500;X-TITLE=499 boulevard Labrosse:geo:-75.6444954,45.4972462
END:VEVENT
BEGIN:VEVENT
DTSTART;TZID=America/Toronto:20190212T173000
DTEND;TZID=America/Toronto:20190212T190000
DTSTAMP:20260419T181121
CREATED:20190105T025531Z
LAST-MODIFIED:20190105T025531Z
UID:10000014-1549992600-1549998000@www.fcgatineau.ca
SUMMARY:Évaluations AA/AAA (U-15MAAA)
DESCRIPTION:Mardi 12/02\n17h30-19h : U15MAAA\,\n \nAu complexe sportif\,  branchaud-Brière
URL:https://www.fcgatineau.ca/event/evaluations-aaaaa-u-15maaa/
LOCATION:Complexe Sportif Branchaud-Briere\, 499 boulevard Labrosse\, Gatineau\, Quebec\, J8P 4R1\, Canada
CATEGORIES:Évaluations
GEO:45.4972462;-75.6444954
X-APPLE-STRUCTURED-LOCATION;VALUE=URI;X-ADDRESS=Complexe Sportif Branchaud-Briere 499 boulevard Labrosse Gatineau Quebec J8P 4R1 Canada;X-APPLE-RADIUS=500;X-TITLE=499 boulevard Labrosse:geo:-75.6444954,45.4972462
END:VEVENT
BEGIN:VEVENT
DTSTART;TZID=America/Toronto:20190209T163000
DTEND;TZID=America/Toronto:20190210T110000
DTSTAMP:20260419T181121
CREATED:20170207T000641Z
LAST-MODIFIED:20190105T025154Z
UID:10000062-1549729800-1549796400@www.fcgatineau.ca
SUMMARY:Évaluations AA/AAA (U-15FAA\, U-16FAA\, U-15MAAA\, U-13MAA et U-19FAAA)
DESCRIPTION:  \n\n\n\n\nSamedi 9 février\n \n \n16h30-18h15 : U15FAA et U16FAA\n 18h15-20h: U15MAAA\n \nDimanche 10 février\n \n8h00-9h30 : U13MAA\n9h30-11h : U19FAAA\n  \nToutes les évaluations ont lieu à Branchaud-Brière\, 499 boulevard Labrosse\, secteur Gatineau \n\n 
URL:https://www.fcgatineau.ca/event/evaluations-aaaaa-semaine-du-06-au-12-fevrier/
LOCATION:Complexe Sportif Branchaud-Briere\, 499 boulevard Labrosse\, Gatineau\, Quebec\, J8P 4R1\, Canada
CATEGORIES:Évaluations
GEO:45.4972462;-75.6444954
X-APPLE-STRUCTURED-LOCATION;VALUE=URI;X-ADDRESS=Complexe Sportif Branchaud-Briere 499 boulevard Labrosse Gatineau Quebec J8P 4R1 Canada;X-APPLE-RADIUS=500;X-TITLE=499 boulevard Labrosse:geo:-75.6444954,45.4972462
END:VEVENT
BEGIN:VEVENT
DTSTART;TZID=America/Toronto:20190207T173000
DTEND;TZID=America/Toronto:20190207T190000
DTSTAMP:20260419T181121
CREATED:20190105T024332Z
LAST-MODIFIED:20190105T024332Z
UID:10000013-1549560600-1549566000@www.fcgatineau.ca
SUMMARY:Évaluations AA/AAA (U-17MAA)
DESCRIPTION:Jeudi 7/02\n17h30-19h : U17MAA\n \nAu complexe sportif\,  branchaud-Brière
URL:https://www.fcgatineau.ca/event/evaluations-aaaaa-u-17maa/
LOCATION:Complexe Sportif Branchaud-Briere\, 499 boulevard Labrosse\, Gatineau\, Quebec\, J8P 4R1\, Canada
CATEGORIES:Évaluations
GEO:45.4972462;-75.6444954
X-APPLE-STRUCTURED-LOCATION;VALUE=URI;X-ADDRESS=Complexe Sportif Branchaud-Briere 499 boulevard Labrosse Gatineau Quebec J8P 4R1 Canada;X-APPLE-RADIUS=500;X-TITLE=499 boulevard Labrosse:geo:-75.6444954,45.4972462
END:VEVENT
BEGIN:VEVENT
DTSTART;TZID=America/Toronto:20190205T173000
DTEND;TZID=America/Toronto:20190205T190000
DTSTAMP:20260419T181121
CREATED:20190105T023954Z
LAST-MODIFIED:20190105T024101Z
UID:10000012-1549387800-1549393200@www.fcgatineau.ca
SUMMARY:Évaluations AA/AAA (U-14MAA)
DESCRIPTION:Mardi 5/02\n17h30-19h : U14MAA\,\n \nAu complexe sportif\,  branchaud-Brière
URL:https://www.fcgatineau.ca/event/evaluations-aaaaa-3/
LOCATION:Complexe Sportif Branchaud-Briere\, 499 boulevard Labrosse\, Gatineau\, Quebec\, J8P 4R1\, Canada
CATEGORIES:Évaluations
GEO:45.4972462;-75.6444954
X-APPLE-STRUCTURED-LOCATION;VALUE=URI;X-ADDRESS=Complexe Sportif Branchaud-Briere 499 boulevard Labrosse Gatineau Quebec J8P 4R1 Canada;X-APPLE-RADIUS=500;X-TITLE=499 boulevard Labrosse:geo:-75.6444954,45.4972462
END:VEVENT
BEGIN:VEVENT
DTSTART;TZID=America/Toronto:20190202T163000
DTEND;TZID=America/Toronto:20190203T110000
DTSTAMP:20260419T181121
CREATED:20170130T000456Z
LAST-MODIFIED:20190105T013903Z
UID:10000060-1549125000-1549191600@www.fcgatineau.ca
SUMMARY:Évaluations AA/AAA (U15MAAA\, U-17MAA\, SFAA\, U15FAA\, U-16FAA et U-14MAA)
DESCRIPTION:Évaluations AA/AAA \nSamedi 02 février\n 16h30-18h15 : U15MAAA\n 18h30-20h : U17MAA et SFAA (Sénior Féminin) \n  \nDimanche 03 février\n8h-9h30 : U15FAA et U16FAA\n 9h30-11h : U14MAA
URL:https://www.fcgatineau.ca/event/evaluations-aaaaa-2/
LOCATION:Complexe Sportif Branchaud-Briere\, 499 boulevard Labrosse\, Gatineau\, Quebec\, J8P 4R1\, Canada
CATEGORIES:Évaluations
GEO:45.4972462;-75.6444954
X-APPLE-STRUCTURED-LOCATION;VALUE=URI;X-ADDRESS=Complexe Sportif Branchaud-Briere 499 boulevard Labrosse Gatineau Quebec J8P 4R1 Canada;X-APPLE-RADIUS=500;X-TITLE=499 boulevard Labrosse:geo:-75.6444954,45.4972462
END:VEVENT
BEGIN:VEVENT
DTSTART;TZID=America/Toronto:20190131T173000
DTEND;TZID=America/Toronto:20190131T190000
DTSTAMP:20260419T181121
CREATED:20190105T012540Z
LAST-MODIFIED:20190105T012540Z
UID:10000011-1548955800-1548961200@www.fcgatineau.ca
SUMMARY:Évaluations AA/AAA (U19FAAA)
DESCRIPTION:Jeudi 31/01\n17h30-19h : U19FAAA\,\n \nAu complexe sportif\,  branchaud-Brière
URL:https://www.fcgatineau.ca/event/evaluations-aaaaa-u19faaa/
LOCATION:Complexe Sportif Branchaud-Briere\, 499 boulevard Labrosse\, Gatineau\, Quebec\, J8P 4R1\, Canada
CATEGORIES:Évaluations
GEO:45.4972462;-75.6444954
X-APPLE-STRUCTURED-LOCATION;VALUE=URI;X-ADDRESS=Complexe Sportif Branchaud-Briere 499 boulevard Labrosse Gatineau Quebec J8P 4R1 Canada;X-APPLE-RADIUS=500;X-TITLE=499 boulevard Labrosse:geo:-75.6444954,45.4972462
END:VEVENT
BEGIN:VEVENT
DTSTART;TZID=America/Toronto:20190129T173000
DTEND;TZID=America/Toronto:20190129T190000
DTSTAMP:20260419T181121
CREATED:20190105T012240Z
LAST-MODIFIED:20190105T012700Z
UID:10000094-1548783000-1548788400@www.fcgatineau.ca
SUMMARY:Évaluations AA/AAA (U-13MAA)
DESCRIPTION:Mardi 29/01\n17h30-19h : U13MAA\,\n \nAu complexe sportif\,  branchaud-Brière
URL:https://www.fcgatineau.ca/event/evaluations-aaaaa-u-13maa/
LOCATION:Complexe Sportif Branchaud-Briere\, 499 boulevard Labrosse\, Gatineau\, Quebec\, J8P 4R1\, Canada
CATEGORIES:Évaluations
GEO:45.4972462;-75.6444954
X-APPLE-STRUCTURED-LOCATION;VALUE=URI;X-ADDRESS=Complexe Sportif Branchaud-Briere 499 boulevard Labrosse Gatineau Quebec J8P 4R1 Canada;X-APPLE-RADIUS=500;X-TITLE=499 boulevard Labrosse:geo:-75.6444954,45.4972462
END:VEVENT
BEGIN:VEVENT
DTSTART;TZID=America/Toronto:20190127T080000
DTEND;TZID=America/Toronto:20190127T110000
DTSTAMP:20260419T181121
CREATED:20190105T011611Z
LAST-MODIFIED:20190105T011611Z
UID:10000092-1548576000-1548586800@www.fcgatineau.ca
SUMMARY:Évaluations AA-AAA(U13MAA\, U-14MAA et U-17MAA)
DESCRIPTION:Dimanche 27 janvier\n8h00-9h30 : U14MAA\n9h30-11h : U13MAA et U17MAA \nau complexe Branchaud-Brière\, secteur Gatineau
URL:https://www.fcgatineau.ca/event/evaluations-aa-aaau13maa-u-14maa-et-u-17maa/
LOCATION:Complexe Sportif Branchaud-Briere\, 499 boulevard Labrosse\, Gatineau\, Quebec\, J8P 4R1\, Canada
CATEGORIES:Évaluations
GEO:45.4972462;-75.6444954
X-APPLE-STRUCTURED-LOCATION;VALUE=URI;X-ADDRESS=Complexe Sportif Branchaud-Briere 499 boulevard Labrosse Gatineau Quebec J8P 4R1 Canada;X-APPLE-RADIUS=500;X-TITLE=499 boulevard Labrosse:geo:-75.6444954,45.4972462
END:VEVENT
BEGIN:VEVENT
DTSTART;TZID=America/Toronto:20190124T173000
DTEND;TZID=America/Toronto:20190124T190000
DTSTAMP:20260419T181121
CREATED:20181230T004207Z
LAST-MODIFIED:20181230T004207Z
UID:10000091-1548351000-1548356400@www.fcgatineau.ca
SUMMARY:Évaluations AA-AAA (U15MAAA)
DESCRIPTION:Jeudi 24/01\n17h30-19h : U15MAAA\,\n \nAu complexe sportif\,  branchaud-Brière
URL:https://www.fcgatineau.ca/event/evaluations-aa-aaa-u15maaa/
LOCATION:Complexe Sportif Branchaud-Briere\, 499 boulevard Labrosse\, Gatineau\, Quebec\, J8P 4R1\, Canada
CATEGORIES:Évaluations
GEO:45.4972462;-75.6444954
X-APPLE-STRUCTURED-LOCATION;VALUE=URI;X-ADDRESS=Complexe Sportif Branchaud-Briere 499 boulevard Labrosse Gatineau Quebec J8P 4R1 Canada;X-APPLE-RADIUS=500;X-TITLE=499 boulevard Labrosse:geo:-75.6444954,45.4972462
END:VEVENT
BEGIN:VEVENT
DTSTART;TZID=America/Toronto:20190122T173000
DTEND;TZID=America/Toronto:20190122T190000
DTSTAMP:20260419T181121
CREATED:20181230T003829Z
LAST-MODIFIED:20181230T003829Z
UID:10000090-1548178200-1548183600@www.fcgatineau.ca
SUMMARY:Évaluations AA-AAA (U15FAA-U16FAA et U19FAAA)
DESCRIPTION:Mardi 22/01\n17h30-19h : U15/U16FAA et U19FAAA\n \nAu complexe sportif\,  branchaud-Brière
URL:https://www.fcgatineau.ca/event/evaluations-aa-aaa-u15faa-u16faa-et-u19faaa/
LOCATION:Complexe Sportif Branchaud-Briere\, 499 boulevard Labrosse\, Gatineau\, Quebec\, J8P 4R1\, Canada
CATEGORIES:Évaluations
GEO:45.4972462;-75.6444954
X-APPLE-STRUCTURED-LOCATION;VALUE=URI;X-ADDRESS=Complexe Sportif Branchaud-Briere 499 boulevard Labrosse Gatineau Quebec J8P 4R1 Canada;X-APPLE-RADIUS=500;X-TITLE=499 boulevard Labrosse:geo:-75.6444954,45.4972462
END:VEVENT
BEGIN:VEVENT
DTSTART;TZID=America/Toronto:20190119T163000
DTEND;TZID=America/Toronto:20190120T110000
DTSTAMP:20260419T181121
CREATED:20181229T234145Z
LAST-MODIFIED:20181230T011738Z
UID:10000089-1547915400-1547982000@www.fcgatineau.ca
SUMMARY:Évaluations AA/AAA (U19FAAA\, U13MAA-U14MAA-U15MAAA-U17MAA)
DESCRIPTION:Samedi 19 janvier\n 16h30-18h15 : U19FAAA\n 18h15-20h : U13MAA-U14MAA \nDimanche 20 janvier\n 8h00-9h30 : U15MAAA\n 9h30-11h : U17MAA \nau complexe Branchaud-Brière\, secteur Gatineau
URL:https://www.fcgatineau.ca/event/evaluations-aa-aaa/
LOCATION:Complexe Sportif Branchaud-Briere\, 499 boulevard Labrosse\, Gatineau\, Quebec\, J8P 4R1\, Canada
CATEGORIES:Évaluations
GEO:45.4972462;-75.6444954
X-APPLE-STRUCTURED-LOCATION;VALUE=URI;X-ADDRESS=Complexe Sportif Branchaud-Briere 499 boulevard Labrosse Gatineau Quebec J8P 4R1 Canada;X-APPLE-RADIUS=500;X-TITLE=499 boulevard Labrosse:geo:-75.6444954,45.4972462
END:VEVENT
BEGIN:VEVENT
DTSTART;TZID=America/Toronto:20190117T173000
DTEND;TZID=America/Toronto:20190117T190000
DTSTAMP:20260419T181121
CREATED:20170123T173740Z
LAST-MODIFIED:20181230T011859Z
UID:10000068-1547746200-1547751600@www.fcgatineau.ca
SUMMARY:Évaluations AA/AAA (U15FAA-U16FAA)
DESCRIPTION:Évaluations AA/AAA – semaine du 14 au 20 janvier 2019\n  \nJeudi 17 janvier\n 17h30-19h : U15FAA / U16FAA\n au complexe sportif Branchaud-Brière\,
URL:https://www.fcgatineau.ca/event/evaluations-aaaaa-u14maa-u16maaa/
LOCATION:Complexe Sportif Branchaud-Briere\, 499 boulevard Labrosse\, Gatineau\, Quebec\, J8P 4R1\, Canada
CATEGORIES:Évaluations
GEO:45.4972462;-75.6444954
X-APPLE-STRUCTURED-LOCATION;VALUE=URI;X-ADDRESS=Complexe Sportif Branchaud-Briere 499 boulevard Labrosse Gatineau Quebec J8P 4R1 Canada;X-APPLE-RADIUS=500;X-TITLE=499 boulevard Labrosse:geo:-75.6444954,45.4972462
END:VEVENT
BEGIN:VEVENT
DTSTART;TZID=America/Toronto:20190115T173000
DTEND;TZID=America/Toronto:20190115T190000
DTSTAMP:20260419T181121
CREATED:20170116T212323Z
LAST-MODIFIED:20181229T164654Z
UID:10000074-1547573400-1547578800@www.fcgatineau.ca
SUMMARY:Évaluations AA/AAA (U-17MAA)
DESCRIPTION:Mardi 15/01\n17h30-19h : U17MAA\,\n \nAu complexe sportif\,  branchaud-Brière
URL:https://www.fcgatineau.ca/event/evaluations-aaaaa-u-17faau-15maa/
LOCATION:Complexe Sportif Branchaud-Briere\, 499 boulevard Labrosse\, Gatineau\, Quebec\, J8P 4R1\, Canada
CATEGORIES:Évaluations
GEO:45.4972462;-75.6444954
X-APPLE-STRUCTURED-LOCATION;VALUE=URI;X-ADDRESS=Complexe Sportif Branchaud-Briere 499 boulevard Labrosse Gatineau Quebec J8P 4R1 Canada;X-APPLE-RADIUS=500;X-TITLE=499 boulevard Labrosse:geo:-75.6444954,45.4972462
END:VEVENT
BEGIN:VEVENT
DTSTART;TZID=America/Toronto:20190112T163000
DTEND;TZID=America/Toronto:20190113T110000
DTSTAMP:20260419T181121
CREATED:20170116T212930Z
LAST-MODIFIED:20181230T011447Z
UID:10000033-1547310600-1547377200@www.fcgatineau.ca
SUMMARY:Évaluations AA/AAA (U15FAA-U16FAA-U19FAAA\, U13MAA-U14MAA-U15MAAA)
DESCRIPTION:Samedi 12/01\n \n16h30-18h15 : U15MAAA\n18h15-20h : U19FAAA\n \nDimanche 13/01\n7h-8h15 : U13MAA\n8h15-9h30 : U14MAA\n9h30-11h : U15-16FAA\n  \nToutes les évaluations ont lieu à Branchaud-Brière\, 499 boulevard Labrosse\, secteur Gatineau
URL:https://www.fcgatineau.ca/event/evaluations-aaaaa/
LOCATION:Complexe Sportif Branchaud-Briere\, 499 boulevard Labrosse\, Gatineau\, Quebec\, J8P 4R1\, Canada
CATEGORIES:Évaluations
GEO:45.4972462;-75.6444954
X-APPLE-STRUCTURED-LOCATION;VALUE=URI;X-ADDRESS=Complexe Sportif Branchaud-Briere 499 boulevard Labrosse Gatineau Quebec J8P 4R1 Canada;X-APPLE-RADIUS=500;X-TITLE=499 boulevard Labrosse:geo:-75.6444954,45.4972462
END:VEVENT
BEGIN:VEVENT
DTSTART;TZID=America/Toronto:20190107T170000
DTEND;TZID=America/Toronto:20190107T190000
DTSTAMP:20260419T181121
CREATED:20181229T001004Z
LAST-MODIFIED:20181229T161629Z
UID:10000088-1546880400-1546887600@www.fcgatineau.ca
SUMMARY:Inscriptions Académie Hiver/ Évaluations AA-AAA
DESCRIPTION:Académie Juvénile \nJoueurs nés entre 2004 et 2014 \n Entraînements en gymnase \nHoraire et lieu selon l’âge et le niveau \nInscription : \nLundi 7 janvier de 17h à 19h \nAu Relais Plein air (397\, boulevard de la Cité-des-Jeunes) \nCOÛTS : \nU5 (2014)\, U6 (2013)\, U7 (2012)\, U8 (2011): 135$ \n U9 – U15 (2010 – 2004) Développement: 145$ \n U9 – U15 (2010 – 2004) Perfectionnement: 200$   \nMode de paiement: carte débit\, chèque ou comptant. \nRenseignements : 819 775-3155 ou info@soccerhull.qc.ca
URL:https://www.fcgatineau.ca/event/inscriptions-saison-hiver/
LOCATION:Relais Plein-Air\, 397\, boulevard de la Cité des Jeunes\, Gatineau\, Quebec\, J8Z3M1\, Canada
CATEGORIES:Inscriptions
GEO:45.4623872;-75.7744178
X-APPLE-STRUCTURED-LOCATION;VALUE=URI;X-ADDRESS=Relais Plein-Air 397 boulevard de la Cité des Jeunes Gatineau Quebec J8Z3M1 Canada;X-APPLE-RADIUS=500;X-TITLE=397\, boulevard de la Cité des Jeunes:geo:-75.7744178,45.4623872
END:VEVENT
BEGIN:VEVENT
DTSTART;TZID=America/Toronto:20181216T090000
DTEND;TZID=America/Toronto:20181216T110000
DTSTAMP:20260419T181121
CREATED:20181114T134331Z
LAST-MODIFIED:20181114T135418Z
UID:10000087-1544950800-1544958000@www.fcgatineau.ca
SUMMARY:Évaluations pour les équipes PLSQ
DESCRIPTION:Nous rappelons que les évaluations PLSQ 2019 débuteront le dimanche 18 novembre de 9h à 11h à Branchaud-Brière.\n \nTous les joueurs devront être régulièrement inscrits avant vendredi 16 novembre à 15h. \nAucune inscription ne sera prise au bord du terrain le jour même.\n \nFormulaire d’inscription evaluation PLSQ
URL:https://www.fcgatineau.ca/event/evaluations-pour-les-equipes-plsq/2018-12-16/
LOCATION:Complexe Sportif Branchaud-Briere\, 499 boulevard Labrosse\, Gatineau\, Quebec\, J8P 4R1\, Canada
CATEGORIES:Évaluations
GEO:45.4972462;-75.6444954
X-APPLE-STRUCTURED-LOCATION;VALUE=URI;X-ADDRESS=Complexe Sportif Branchaud-Briere 499 boulevard Labrosse Gatineau Quebec J8P 4R1 Canada;X-APPLE-RADIUS=500;X-TITLE=499 boulevard Labrosse:geo:-75.6444954,45.4972462
END:VEVENT
BEGIN:VEVENT
DTSTART;TZID=America/Toronto:20181209T090000
DTEND;TZID=America/Toronto:20181209T110000
DTSTAMP:20260419T181121
CREATED:20181114T134331Z
LAST-MODIFIED:20181114T135418Z
UID:10000086-1544346000-1544353200@www.fcgatineau.ca
SUMMARY:Évaluations pour les équipes PLSQ
DESCRIPTION:Nous rappelons que les évaluations PLSQ 2019 débuteront le dimanche 18 novembre de 9h à 11h à Branchaud-Brière.\n \nTous les joueurs devront être régulièrement inscrits avant vendredi 16 novembre à 15h. \nAucune inscription ne sera prise au bord du terrain le jour même.\n \nFormulaire d’inscription evaluation PLSQ
URL:https://www.fcgatineau.ca/event/evaluations-pour-les-equipes-plsq/2018-12-09/
LOCATION:Complexe Sportif Branchaud-Briere\, 499 boulevard Labrosse\, Gatineau\, Quebec\, J8P 4R1\, Canada
CATEGORIES:Évaluations
GEO:45.4972462;-75.6444954
X-APPLE-STRUCTURED-LOCATION;VALUE=URI;X-ADDRESS=Complexe Sportif Branchaud-Briere 499 boulevard Labrosse Gatineau Quebec J8P 4R1 Canada;X-APPLE-RADIUS=500;X-TITLE=499 boulevard Labrosse:geo:-75.6444954,45.4972462
END:VEVENT
BEGIN:VEVENT
DTSTART;TZID=America/Toronto:20181202T090000
DTEND;TZID=America/Toronto:20181202T110000
DTSTAMP:20260419T181121
CREATED:20181114T134331Z
LAST-MODIFIED:20181114T135418Z
UID:10000085-1543741200-1543748400@www.fcgatineau.ca
SUMMARY:Évaluations pour les équipes PLSQ
DESCRIPTION:Nous rappelons que les évaluations PLSQ 2019 débuteront le dimanche 18 novembre de 9h à 11h à Branchaud-Brière.\n \nTous les joueurs devront être régulièrement inscrits avant vendredi 16 novembre à 15h. \nAucune inscription ne sera prise au bord du terrain le jour même.\n \nFormulaire d’inscription evaluation PLSQ
URL:https://www.fcgatineau.ca/event/evaluations-pour-les-equipes-plsq/2018-12-02/
LOCATION:Complexe Sportif Branchaud-Briere\, 499 boulevard Labrosse\, Gatineau\, Quebec\, J8P 4R1\, Canada
CATEGORIES:Évaluations
GEO:45.4972462;-75.6444954
X-APPLE-STRUCTURED-LOCATION;VALUE=URI;X-ADDRESS=Complexe Sportif Branchaud-Briere 499 boulevard Labrosse Gatineau Quebec J8P 4R1 Canada;X-APPLE-RADIUS=500;X-TITLE=499 boulevard Labrosse:geo:-75.6444954,45.4972462
END:VEVENT
BEGIN:VEVENT
DTSTART;TZID=America/Toronto:20181125T090000
DTEND;TZID=America/Toronto:20181125T110000
DTSTAMP:20260419T181121
CREATED:20181114T134331Z
LAST-MODIFIED:20181114T135418Z
UID:10000084-1543136400-1543143600@www.fcgatineau.ca
SUMMARY:Évaluations pour les équipes PLSQ
DESCRIPTION:Nous rappelons que les évaluations PLSQ 2019 débuteront le dimanche 18 novembre de 9h à 11h à Branchaud-Brière.\n \nTous les joueurs devront être régulièrement inscrits avant vendredi 16 novembre à 15h. \nAucune inscription ne sera prise au bord du terrain le jour même.\n \nFormulaire d’inscription evaluation PLSQ
URL:https://www.fcgatineau.ca/event/evaluations-pour-les-equipes-plsq/2018-11-25/
LOCATION:Complexe Sportif Branchaud-Briere\, 499 boulevard Labrosse\, Gatineau\, Quebec\, J8P 4R1\, Canada
CATEGORIES:Évaluations
GEO:45.4972462;-75.6444954
X-APPLE-STRUCTURED-LOCATION;VALUE=URI;X-ADDRESS=Complexe Sportif Branchaud-Briere 499 boulevard Labrosse Gatineau Quebec J8P 4R1 Canada;X-APPLE-RADIUS=500;X-TITLE=499 boulevard Labrosse:geo:-75.6444954,45.4972462
END:VEVENT
BEGIN:VEVENT
DTSTART;TZID=America/Toronto:20181118T090000
DTEND;TZID=America/Toronto:20181118T110000
DTSTAMP:20260419T181121
CREATED:20181114T134331Z
LAST-MODIFIED:20181114T135418Z
UID:10000083-1542531600-1542538800@www.fcgatineau.ca
SUMMARY:Évaluations pour les équipes PLSQ
DESCRIPTION:Nous rappelons que les évaluations PLSQ 2019 débuteront le dimanche 18 novembre de 9h à 11h à Branchaud-Brière.\n \nTous les joueurs devront être régulièrement inscrits avant vendredi 16 novembre à 15h. \nAucune inscription ne sera prise au bord du terrain le jour même.\n \nFormulaire d’inscription evaluation PLSQ
URL:https://www.fcgatineau.ca/event/evaluations-pour-les-equipes-plsq/2018-11-18/
LOCATION:Complexe Sportif Branchaud-Briere\, 499 boulevard Labrosse\, Gatineau\, Quebec\, J8P 4R1\, Canada
CATEGORIES:Évaluations
GEO:45.4972462;-75.6444954
X-APPLE-STRUCTURED-LOCATION;VALUE=URI;X-ADDRESS=Complexe Sportif Branchaud-Briere 499 boulevard Labrosse Gatineau Quebec J8P 4R1 Canada;X-APPLE-RADIUS=500;X-TITLE=499 boulevard Labrosse:geo:-75.6444954,45.4972462
END:VEVENT
BEGIN:VEVENT
DTSTART;TZID=America/Toronto:20181101T183000
DTEND;TZID=America/Toronto:20181101T200000
DTSTAMP:20260419T181121
CREATED:20181025T231454Z
LAST-MODIFIED:20181025T231454Z
UID:10000081-1541097000-1541102400@www.fcgatineau.ca
SUMMARY:Réunion de présentation du programme AA/AAA/PLSQ  2019
DESCRIPTION:On rappele que les évaluations juvéniles débuteront en janvier.\n \nFormulaire d’inscriptions aux évaluations AA AAA (Coût 80$)
URL:https://www.fcgatineau.ca/event/reunion-de-presentation-du-programme-aaaaaplsq-2019/
LOCATION:Relais Plein-Air\, 397\, boulevard de la Cité des Jeunes\, Gatineau\, Quebec\, J8Z3M1\, Canada
GEO:45.4623872;-75.7744178
X-APPLE-STRUCTURED-LOCATION;VALUE=URI;X-ADDRESS=Relais Plein-Air 397 boulevard de la Cité des Jeunes Gatineau Quebec J8Z3M1 Canada;X-APPLE-RADIUS=500;X-TITLE=397\, boulevard de la Cité des Jeunes:geo:-75.7744178,45.4623872
END:VEVENT
BEGIN:VEVENT
DTSTART;TZID=America/Toronto:20181027T160000
DTEND;TZID=America/Toronto:20181027T180000
DTSTAMP:20260419T181121
CREATED:20181025T233644Z
LAST-MODIFIED:20181026T001243Z
UID:10000082-1540656000-1540663200@www.fcgatineau.ca
SUMMARY:Finale coupe PLSQ ( à Laval)
DESCRIPTION:Notre équipe PLSQ s’est qualifiée pour la finale de la coupe qui aura lieu samedi prochain\, le 27 octobre\, à 16h au complexe Multi-Sports de Laval\, siège de la Fédération de Soccer du Québec. \nhttp://plsq.ca/actualites/coupe-plsq-la-maitrise-du-fc-gatineau-lascension-du-fc-lanaudiere
URL:https://www.fcgatineau.ca/event/finale-coupe-plsq/
LOCATION:complexe Multi-Sports de Laval\, 955\, avenue Bois-de-Boulogne\, Laval\, Québec\, Canada
CATEGORIES:Matchs FC Gatineau
END:VEVENT
BEGIN:VEVENT
DTSTART;TZID=America/Toronto:20181021T170000
DTEND;TZID=America/Toronto:20181021T190000
DTSTAMP:20260419T181122
CREATED:20181020T002307Z
LAST-MODIFIED:20181020T002307Z
UID:10000080-1540141200-1540148400@www.fcgatineau.ca
SUMMARY:Demi-finale coupe PLSQ
DESCRIPTION:Notre équipe PLSQ (FC Gatineau) s’étant brillamment qualifiée chez le champion sortant\, l’AS Blainville\, en quart de finale de la coupe PLSQ\, nous vous attendons nombreux pour la supporter dimanche prochain\, le 21 octobre à 17h à Mt bleu pour la 1/2 finale contre le C.S St-Hubert. (billet de saison non valide pour se match\, entrée 5$/adulte au lieu 8$ et 2$ pour les enfants)
URL:https://www.fcgatineau.ca/event/demi-finale-coupe-plsq/
LOCATION:Terrains de soccer Mont-Bleu\, 397\, boulevard de la Cité des Jeunes\, Gatineau\, Quebec\, J8Z3M1\, Canada
CATEGORIES:Matchs FC Gatineau
GEO:45.4623872;-75.7744178
X-APPLE-STRUCTURED-LOCATION;VALUE=URI;X-ADDRESS=Terrains de soccer Mont-Bleu 397 boulevard de la Cité des Jeunes Gatineau Quebec J8Z3M1 Canada;X-APPLE-RADIUS=500;X-TITLE=397\, boulevard de la Cité des Jeunes:geo:-75.7744178,45.4623872
END:VEVENT
BEGIN:VEVENT
DTSTART;TZID=America/Toronto:20180930T170000
DTEND;TZID=America/Toronto:20180930T210000
DTSTAMP:20260419T181122
CREATED:20180828T012110Z
LAST-MODIFIED:20180828T012110Z
UID:10000010-1538326800-1538341200@www.fcgatineau.ca
SUMMARY:Match Équipe Pro et Réserve
DESCRIPTION:Le FC Gatineau reçoit le CS Longueuil \nDimanche 30 Septembre à 17h\, au terrain Mont-Bleu #4(synthétique) \nMatch Équipes Réserves après le match principal.
URL:https://www.fcgatineau.ca/event/match-equipe-pro-et-reserve-2/
LOCATION:Terrains de soccer Mont-Bleu\, 397\, boulevard de la Cité des Jeunes\, Gatineau\, Quebec\, J8Z3M1\, Canada
CATEGORIES:Matchs FC Gatineau
GEO:45.4623872;-75.7744178
X-APPLE-STRUCTURED-LOCATION;VALUE=URI;X-ADDRESS=Terrains de soccer Mont-Bleu 397 boulevard de la Cité des Jeunes Gatineau Quebec J8Z3M1 Canada;X-APPLE-RADIUS=500;X-TITLE=397\, boulevard de la Cité des Jeunes:geo:-75.7744178,45.4623872
END:VEVENT
BEGIN:VEVENT
DTSTART;TZID=America/Toronto:20180910T170000
DTEND;TZID=America/Toronto:20180910T190000
DTSTAMP:20260419T181122
CREATED:20180828T011818Z
LAST-MODIFIED:20180828T011818Z
UID:10000009-1536598800-1536606000@www.fcgatineau.ca
SUMMARY:Inscriptions Automne-Hiver 2018-2019
DESCRIPTION:Une séance d’inscriptions se tiendra le Lundi 10 Septembre de 17h à 19h au Relais Plein Air.
URL:https://www.fcgatineau.ca/event/inscriptions-automne-hiver-2018-2019-3/
LOCATION:Relais Plein-Air\, 397\, boulevard de la Cité des Jeunes\, Gatineau\, Quebec\, J8Z3M1\, Canada
CATEGORIES:Inscriptions
GEO:45.4623872;-75.7744178
X-APPLE-STRUCTURED-LOCATION;VALUE=URI;X-ADDRESS=Relais Plein-Air 397 boulevard de la Cité des Jeunes Gatineau Quebec J8Z3M1 Canada;X-APPLE-RADIUS=500;X-TITLE=397\, boulevard de la Cité des Jeunes:geo:-75.7744178,45.4623872
END:VEVENT
BEGIN:VEVENT
DTSTART;TZID=America/Toronto:20180909T170000
DTEND;TZID=America/Toronto:20180909T210000
DTSTAMP:20260419T181122
CREATED:20180828T010103Z
LAST-MODIFIED:20180828T010103Z
UID:10000006-1536512400-1536526800@www.fcgatineau.ca
SUMMARY:Match Équipe Pro et Réserve
DESCRIPTION:Le FC Gatineau reçoit le Dynamo de Québec \nDimanche 9 Septembre à 17h\, au terrain Mont-Bleu #4(synthétique) \nMatch Équipes Réserves après le match principal.
URL:https://www.fcgatineau.ca/event/match-equipe-pro-et-reserve/
LOCATION:Terrains de soccer Mont-Bleu\, 397\, boulevard de la Cité des Jeunes\, Gatineau\, Quebec\, J8Z3M1\, Canada
CATEGORIES:Matchs FC Gatineau
GEO:45.4623872;-75.7744178
X-APPLE-STRUCTURED-LOCATION;VALUE=URI;X-ADDRESS=Terrains de soccer Mont-Bleu 397 boulevard de la Cité des Jeunes Gatineau Quebec J8Z3M1 Canada;X-APPLE-RADIUS=500;X-TITLE=397\, boulevard de la Cité des Jeunes:geo:-75.7744178,45.4623872
END:VEVENT
BEGIN:VEVENT
DTSTART;TZID=America/Toronto:20180906T170000
DTEND;TZID=America/Toronto:20180906T190000
DTSTAMP:20260419T181122
CREATED:20180828T011649Z
LAST-MODIFIED:20180828T011649Z
UID:10000008-1536253200-1536260400@www.fcgatineau.ca
SUMMARY:Inscriptions Automne-Hiver 2018-2019
DESCRIPTION:Une séance d’inscriptions se tiendra le Jeudi 6 Septembre de 17h à 19h au Relais Plein Air.
URL:https://www.fcgatineau.ca/event/inscriptions-automne-hiver-2018-2019-2/
LOCATION:Relais Plein-Air\, 397\, boulevard de la Cité des Jeunes\, Gatineau\, Quebec\, J8Z3M1\, Canada
CATEGORIES:Inscriptions
GEO:45.4623872;-75.7744178
X-APPLE-STRUCTURED-LOCATION;VALUE=URI;X-ADDRESS=Relais Plein-Air 397 boulevard de la Cité des Jeunes Gatineau Quebec J8Z3M1 Canada;X-APPLE-RADIUS=500;X-TITLE=397\, boulevard de la Cité des Jeunes:geo:-75.7744178,45.4623872
END:VEVENT
END:VCALENDAR