BEGIN:VCALENDAR
VERSION:2.0
PRODID:-//FC Gatineau - ECPv6.0.3.1//NONSGML v1.0//EN
CALSCALE:GREGORIAN
METHOD:PUBLISH
X-WR-CALNAME:FC Gatineau
X-ORIGINAL-URL:https://www.fcgatineau.ca
X-WR-CALDESC:Events for FC Gatineau
REFRESH-INTERVAL;VALUE=DURATION:PT1H
X-Robots-Tag:noindex
X-PUBLISHED-TTL:PT1H
BEGIN:VTIMEZONE
TZID:America/Toronto
BEGIN:DAYLIGHT
TZOFFSETFROM:-0500
TZOFFSETTO:-0400
TZNAME:EDT
DTSTART:20180311T070000
END:DAYLIGHT
BEGIN:STANDARD
TZOFFSETFROM:-0400
TZOFFSETTO:-0500
TZNAME:EST
DTSTART:20181104T060000
END:STANDARD
END:VTIMEZONE
BEGIN:VEVENT
DTSTART;TZID=America/Toronto:20180403T170000
DTEND;TZID=America/Toronto:20180403T193000
DTSTAMP:20260420T041437
CREATED:20180320T201842Z
LAST-MODIFIED:20180320T201842Z
UID:10000031-1522774800-1522783800@www.fcgatineau.ca
SUMMARY:Inscriptions Estivales 2018
DESCRIPTION:Les prochaines dates d’inscriptions pour l’été 2018: \n\nLundi 26 Mars de 17h à 19h30\nMardi 3 Avril de 17h à 19h30\n\nAu Relais Plein air: 397 Boul. Cités des Jeunes
URL:https://www.fcgatineau.ca/event/inscriptions-estivales-2018-4/
LOCATION:Relais Plein-Air\, 397\, boulevard de la Cité des Jeunes\, Gatineau\, Quebec\, J8Z3M1\, Canada
CATEGORIES:Inscriptions
GEO:45.4623872;-75.7744178
X-APPLE-STRUCTURED-LOCATION;VALUE=URI;X-ADDRESS=Relais Plein-Air 397 boulevard de la Cité des Jeunes Gatineau Quebec J8Z3M1 Canada;X-APPLE-RADIUS=500;X-TITLE=397\, boulevard de la Cité des Jeunes:geo:-75.7744178,45.4623872
END:VEVENT
BEGIN:VEVENT
DTSTART;TZID=America/Toronto:20180407T170000
DTEND;TZID=America/Toronto:20180407T181500
DTSTAMP:20260420T041437
CREATED:20170402T221606Z
LAST-MODIFIED:20180402T221720Z
UID:10000041-1523120400-1523124900@www.fcgatineau.ca
SUMMARY:Évaluations U14M
DESCRIPTION:samedi 7 avril 17h-18h15 \nComplexe Branchaud-Brière
URL:https://www.fcgatineau.ca/event/evaluations-u14m-2/
LOCATION:Complexe Sportif Branchaud-Briere\, 499 boulevard Labrosse\, Gatineau\, Quebec\, J8P 4R1\, Canada
CATEGORIES:Évaluations
GEO:45.4972462;-75.6444954
X-APPLE-STRUCTURED-LOCATION;VALUE=URI;X-ADDRESS=Complexe Sportif Branchaud-Briere 499 boulevard Labrosse Gatineau Quebec J8P 4R1 Canada;X-APPLE-RADIUS=500;X-TITLE=499 boulevard Labrosse:geo:-75.6444954,45.4972462
END:VEVENT
END:VCALENDAR